BEGIN:VCALENDAR
VERSION:2.0
PRODID:-//Discover Melton - ECPv6.15.20//NONSGML v1.0//EN
CALSCALE:GREGORIAN
METHOD:PUBLISH
X-WR-CALNAME:Discover Melton
X-ORIGINAL-URL:https://discovermelton.com
X-WR-CALDESC:Events for Discover Melton
REFRESH-INTERVAL;VALUE=DURATION:PT1H
X-Robots-Tag:noindex
X-PUBLISHED-TTL:PT1H
BEGIN:VTIMEZONE
TZID:UTC
BEGIN:STANDARD
TZOFFSETFROM:+0000
TZOFFSETTO:+0000
TZNAME:UTC
DTSTART:20250101T000000
END:STANDARD
END:VTIMEZONE
BEGIN:VEVENT
DTSTART;TZID=UTC:20260404T110000
DTEND;TZID=UTC:20260404T140000
DTSTAMP:20260422T142452
CREATED:20260402T123512Z
LAST-MODIFIED:20260402T123512Z
UID:10003213-1775300400-1775311200@discovermelton.com
SUMMARY:The Great Easter Egg Hunt
DESCRIPTION:The Great Easter Egg Hunt packed with surprises\, treats\, and plenty of Easter magic. \nWhat’s happening on the day? We’re kicking things off at 11:00 am with our Circus Play Session\, where we’ll show your little ones how to spin plates and master the hula hoop! Our very own Easter Bunny and their helper will then gather everyone together to begin the hunt. You’ll work as a family to follow clues to hidden decorative eggs—and if you find them all\, we’ve got a delicious chocolate egg waiting for you at the end! \nEntertainment for everyone: \n\nDance & Play: Join MC DJ Chuka for a Kid’s Disco and DJ Workshops.\nMeet Your Heroes: Don’t forget your camera! We’ll have the Easter Bunny and Princess Elsa hopping around for photos.\nGet Creative: Visit our Easter Crafting station or get your face painted.\nThe Golden Egg: Keep your eyes peeled for the elusive Golden Egg to win our grand prize!\nHolland’s Fun Fair will also be in Play Close Park over the Easter weekend from the 2nd to the 6th of April. We have been offered free tokens to give out as prizes for our Easter Egg hunt\, which the winners can use to go on the rides at the fun fair for free. We’ll also have local caterers on-site serving up tasty snacks for whenever you need a break.\n\nTickets & Info: Tickets are £5.94 per child (limited to 500 children aged 10 and under). We want the whole family involved\, so parents and guardians go completely free!
URL:https://discovermelton.com/event/the-great-easter-egg-hunt/
LOCATION:New Park\, Melton Mowbray\, Leicestershire\, LE13 0PR\, United Kingdom
CATEGORIES:Event
ATTACH;FMTTYPE=image/png:https://discovermelton.com/wp-content/uploads/2025/01/Easter-Hunt-4x3-1.png
END:VEVENT
BEGIN:VEVENT
DTSTART;TZID=UTC:20260404T100000
DTEND;TZID=UTC:20260404T160000
DTSTAMP:20260422T142452
CREATED:20260330T141643Z
LAST-MODIFIED:20260330T142842Z
UID:10003194-1775296800-1775318400@discovermelton.com
SUMMARY:Super Saturdays
DESCRIPTION:The Melton Mowbray Town Estate and Melton BID are proud to announce the launch of ‘Super Saturdays’\, a series of monthly themed markets running from April through October 2026\, in an initiative designed to transform the town centre into a premier regional destination by blending quality retail with family entertainment. \nEach Super Saturday will feature new market traders\, live music\, and family-oriented activities. In a boost for local commerce\, the Town Estate is also offering market pitches to businesses located outside the town centre to showcase their goods. Adding to the atmosphere\, classic and vintage cars will be in attendance at every market throughout the season. \nThe season kicks off on Saturday\, 4th April\, with an Easter Market\, featuring a wealth of entertainment including a children’s disco\, Punch and Judy shows\, and the “Great Easter Egg Hunt” in New Park. \n\n4th April – Easter Market: Featuring the Easter Bunny\, a disco\, and the Great Easter Egg Hunt and more.\n2nd May – May Day Festival: The return of our beloved annual tradition.\n9th/10th May – 1940s Weekend: A vintage market to complement the festivities in Play Close Park.\n13th June – Country On The Eye: Live country bands\, DJs\, and line dancing from 12:00 pm to 3:00 pm.\n25th July – Melton Ska Fest: Reggae and Ska vibes with DJs from Bootboy Radio.\n22nd August: Family Summer Event (TBC).\n19th September: Farming Day.\n31st October: Halloween & Kids Fancy Dress.\n\nEach Super Saturday will always have stalls\, family entertainment\, music and classic cars.
URL:https://discovermelton.com/event/super-saturdays/2026-04-04/
LOCATION:Market Place\, Melton Mowbray\, Leicestershire\, LE13 1XD\, United Kingdom
CATEGORIES:Event
ATTACH;FMTTYPE=image/png:https://discovermelton.com/wp-content/uploads/2026/03/Super-Saturdays-event-Banner.png
END:VEVENT
END:VCALENDAR