BEGIN:VCALENDAR
VERSION:2.0
PRODID:-//Discover Melton - ECPv6.15.20//NONSGML v1.0//EN
CALSCALE:GREGORIAN
METHOD:PUBLISH
X-ORIGINAL-URL:https://discovermelton.com
X-WR-CALDESC:Events for Discover Melton
REFRESH-INTERVAL;VALUE=DURATION:PT1H
X-Robots-Tag:noindex
X-PUBLISHED-TTL:PT1H
BEGIN:VTIMEZONE
TZID:UTC
BEGIN:STANDARD
TZOFFSETFROM:+0000
TZOFFSETTO:+0000
TZNAME:UTC
DTSTART:20250101T000000
END:STANDARD
END:VTIMEZONE
BEGIN:VEVENT
DTSTART;TZID=UTC:20260504T100000
DTEND;TZID=UTC:20260504T150000
DTSTAMP:20260422T152444
CREATED:20260421T144142Z
LAST-MODIFIED:20260421T144142Z
UID:10003257-1777888800-1777906800@discovermelton.com
SUMMARY:May Day at Belvoir Castle
DESCRIPTION:Family-Friendly Spring Event in Leicestershire  \nCelebrate the arrival of spring in timeless British style at Belvoir Castle\, as we welcome visitors to a traditional May Day celebration filled with heritage\, music\, and family-friendly entertainment. \nRooted in centuries-old customs\, May Day marks the turning of the seasons and is a joyful celebration of renewal\, community\, and the blooming countryside. Set against the stunning backdrop of Belvoir Castle in Leicestershire\, this special event brings these traditions to life with a vibrant programme of activities for all ages. \nWhat’s On: Castle Terrace & Lawn\nStart your day with the enchanting spectacle of maypole dancing\, performed by pupils from Denton Primary School—a much-loved British tradition symbolising unity and community spirit. \nThroughout the day\, enjoy: \n\nTraditional Morris dancing by New St George Morris Dancers\nA roaming Belvoir Castle bagpiper\nA lively afternoon performance by Burton Joyce Brass Band\nClassic lawn games for all ages\nFace painting by Miles for Smiles\nTake time to relax on the lawn and soak up the festive atmosphere\, surrounded by the beauty of the Belvoir estate.\n\nWhen hunger strikes\, indulge in delicious seasonal food from Hungry Belvoir and refreshing drinks from Thirsty Belvoir. \nGarden and Nature Tours (FREE) \n11:00 & 14:00\nPlease meet directly outside the main Castle entrance doors.
URL:https://discovermelton.com/event/may-day-at-belvoir-castle/
LOCATION:Belvoir Castle\, Belvoir Castle\, Leicestershire\, NG321PA\, United Kingdom
CATEGORIES:Event
ATTACH;FMTTYPE=image/jpeg:https://discovermelton.com/wp-content/uploads/2025/07/The-Rose-Garden-at-Belvoir-Castle-1-Credit-Sam-Churchill-scaled-1.jpg
END:VEVENT
BEGIN:VEVENT
DTSTART;TZID=UTC:20260711T093000
DTEND;TZID=UTC:20260712T170000
DTSTAMP:20260422T152444
CREATED:20260304T154321Z
LAST-MODIFIED:20260330T114143Z
UID:10001946-1783762200-1783875600@discovermelton.com
SUMMARY:Belvoir Castle Flower and Garden Show
DESCRIPTION:Famous faces from the UK’s favourite gardening programmes including – BBC Gardeners’ World presenter Adam Frost and ITV’s Love Your Garden’s David Domoney – will be taking to the stage at Belvoir Castle Flower and Garden Show\, taking place 11-12 July 2026. \nAdam Frost and David Domoney will be returning to the show for the second year to share design insights\, gardening tips and share stories from their careers\, as well as signing bookings for fans. These sessions are part of a jam-packed programme of events\, taking place across the two-day show. \nNow in its ninth year\, Belvoir Castle’s Flower and Garden show has become one of the region’s most anticipated shows\, attracting thousands of visitors who share a passion for gardening\, design\, and the natural world. Celebrating the beauty and creativity of horticulture\, this year’s show promises a vibrant showcase of displays\, garden design inspiration\, hands-on workshops\, and sustainable gardening innovations. \nThroughout the two-day event there will be a programme of unmissable events including live demonstrations\, Q&A sessions with talented horticulturalists Chelsea Flower Show Medallist Paula Routledge and experienced garden designer and journalist Karen Gimson. In addition to the programme of events\, visitors will have the opportunity to enjoy stalls selling plants\, horticultural accessories and local artisan crafts. Food stalls selling delicious locally sourced food and beverages will be available throughout the show. \nEarly bird tickets for the Flower and Garden Show are now available from the Belvoir Castle website with prices starting from £13 for adults and £4 for children.
URL:https://discovermelton.com/event/belvoir-castle-flower-and-garden-show/
CATEGORIES:Event
ATTACH;FMTTYPE=image/jpeg:https://discovermelton.com/wp-content/uploads/2026/02/Belvoir-Castles-Flower-and-Garden-Show-2025-Credit-George-Parrish.jpg
END:VEVENT
END:VCALENDAR