BEGIN:VCALENDAR
VERSION:2.0
PRODID:-//Discover Melton - ECPv6.15.20//NONSGML v1.0//EN
CALSCALE:GREGORIAN
METHOD:PUBLISH
X-WR-CALNAME:Discover Melton
X-ORIGINAL-URL:https://discovermelton.com
X-WR-CALDESC:Events for Discover Melton
REFRESH-INTERVAL;VALUE=DURATION:PT1H
X-Robots-Tag:noindex
X-PUBLISHED-TTL:PT1H
BEGIN:VTIMEZONE
TZID:UTC
BEGIN:STANDARD
TZOFFSETFROM:+0000
TZOFFSETTO:+0000
TZNAME:UTC
DTSTART:20250101T000000
END:STANDARD
END:VTIMEZONE
BEGIN:VEVENT
DTSTART;TZID=UTC:20260522T193000
DTEND;TZID=UTC:20260522T223000
DTSTAMP:20260422T114000
CREATED:20260421T145209Z
LAST-MODIFIED:20260421T145209Z
UID:10003258-1779478200-1779489000@discovermelton.com
SUMMARY:Cinema Nights
DESCRIPTION:Part of the free summer season in the park. \nExperience the magic of the big screen in the great outdoors. Our Cinema Nights transform the performance area into an open-air theater. Arrive early to grab food and drinks from the kitchen before settling in for a cinematic evening under the moonlight\, perfect for date nights or a night out with friends.
URL:https://discovermelton.com/event/cinema-nights/2026-05-22/
LOCATION:Play Close Park\, Melton Mowbray\, Leicestershire\, LE130PW\, United Kingdom
CATEGORIES:Event
ATTACH;FMTTYPE=image/jpeg:https://discovermelton.com/wp-content/uploads/2026/03/Cinema-in-the-park-.jpg
END:VEVENT
BEGIN:VEVENT
DTSTART;TZID=UTC:20260619T193000
DTEND;TZID=UTC:20260619T223000
DTSTAMP:20260422T114000
CREATED:20260421T145209Z
LAST-MODIFIED:20260421T145209Z
UID:10003259-1781897400-1781908200@discovermelton.com
SUMMARY:Cinema Nights
DESCRIPTION:Part of the free summer season in the park. \nExperience the magic of the big screen in the great outdoors. Our Cinema Nights transform the performance area into an open-air theater. Arrive early to grab food and drinks from the kitchen before settling in for a cinematic evening under the moonlight\, perfect for date nights or a night out with friends.
URL:https://discovermelton.com/event/cinema-nights/2026-06-19/
LOCATION:Play Close Park\, Melton Mowbray\, Leicestershire\, LE130PW\, United Kingdom
CATEGORIES:Event
ATTACH;FMTTYPE=image/jpeg:https://discovermelton.com/wp-content/uploads/2026/03/Cinema-in-the-park-.jpg
END:VEVENT
BEGIN:VEVENT
DTSTART;TZID=UTC:20260717T193000
DTEND;TZID=UTC:20260717T223000
DTSTAMP:20260422T114000
CREATED:20260421T145209Z
LAST-MODIFIED:20260421T145209Z
UID:10003260-1784316600-1784327400@discovermelton.com
SUMMARY:Cinema Nights
DESCRIPTION:Part of the free summer season in the park. \nExperience the magic of the big screen in the great outdoors. Our Cinema Nights transform the performance area into an open-air theater. Arrive early to grab food and drinks from the kitchen before settling in for a cinematic evening under the moonlight\, perfect for date nights or a night out with friends.
URL:https://discovermelton.com/event/cinema-nights/2026-07-17/
LOCATION:Play Close Park\, Melton Mowbray\, Leicestershire\, LE130PW\, United Kingdom
CATEGORIES:Event
ATTACH;FMTTYPE=image/jpeg:https://discovermelton.com/wp-content/uploads/2026/03/Cinema-in-the-park-.jpg
END:VEVENT
BEGIN:VEVENT
DTSTART;TZID=UTC:20260821T193000
DTEND;TZID=UTC:20260821T223000
DTSTAMP:20260422T114000
CREATED:20260421T145209Z
LAST-MODIFIED:20260421T145209Z
UID:10003261-1787340600-1787351400@discovermelton.com
SUMMARY:Cinema Nights
DESCRIPTION:Part of the free summer season in the park. \nExperience the magic of the big screen in the great outdoors. Our Cinema Nights transform the performance area into an open-air theater. Arrive early to grab food and drinks from the kitchen before settling in for a cinematic evening under the moonlight\, perfect for date nights or a night out with friends.
URL:https://discovermelton.com/event/cinema-nights/2026-08-21/
LOCATION:Play Close Park\, Melton Mowbray\, Leicestershire\, LE130PW\, United Kingdom
CATEGORIES:Event
ATTACH;FMTTYPE=image/jpeg:https://discovermelton.com/wp-content/uploads/2026/03/Cinema-in-the-park-.jpg
END:VEVENT
END:VCALENDAR