BEGIN:VCALENDAR
VERSION:2.0
PRODID:-//Discover Melton - ECPv6.15.20//NONSGML v1.0//EN
CALSCALE:GREGORIAN
METHOD:PUBLISH
X-WR-CALNAME:Discover Melton
X-ORIGINAL-URL:https://discovermelton.com
X-WR-CALDESC:Events for Discover Melton
REFRESH-INTERVAL;VALUE=DURATION:PT1H
X-Robots-Tag:noindex
X-PUBLISHED-TTL:PT1H
BEGIN:VTIMEZONE
TZID:UTC
BEGIN:STANDARD
TZOFFSETFROM:+0000
TZOFFSETTO:+0000
TZNAME:UTC
DTSTART:20250101T000000
END:STANDARD
END:VTIMEZONE
BEGIN:VEVENT
DTSTART;TZID=UTC:20260424T080000
DTEND;TZID=UTC:20260424T120000
DTSTAMP:20260424T013104
CREATED:20260327T104731Z
LAST-MODIFIED:20260327T114936Z
UID:10002937-1777017600-1777032000@discovermelton.com
SUMMARY:Stockyard Melton Mowbray Friday Farmers' Market
DESCRIPTION:Friday is our farmers’ market\, run by Scarborough Fare every week from 8am until 12pm. \nThis market is a more condensed version of our Tuesday market with fresh\, flavoursome ingredients direct from the source. Come along to support local farmers\, reduce your food miles and discover the true taste of the season. \nWhether you’re planning a special meal\, stocking up for the week or simply seeking inspiration\, Friday’s Farmers’ Market at the Stockyard is a feast for the senses and a celebration of local produce. \nWe also welcome a few antique and hardware stalls to diversify the market. We encourage any other vendors to contact us for more details about obtaining a table.
URL:https://discovermelton.com/event/stockyard-melton-mowbray-friday-farmers-market-3/2026-04-24/
LOCATION:Leicestershire
CATEGORIES:Market
ATTACH;FMTTYPE=image/jpeg:https://discovermelton.com/wp-content/uploads/2025/03/Friday-Farmers-market-Stockyard.jpg
END:VEVENT
BEGIN:VEVENT
DTSTART;TZID=UTC:20260424T180000
DTEND;TZID=UTC:20260424T210000
DTSTAMP:20260424T013104
CREATED:20260415T145321Z
LAST-MODIFIED:20260416T133327Z
UID:10003215-1777053600-1777064400@discovermelton.com
SUMMARY:The Pie Shop - Piano Night
DESCRIPTION:Enjoy a relaxed evening with Thomas Corden at the piano. Great music\, great atmosphere\, and perfect for winding down at the end of the month. \nFree Admission\, Food & drink available for purchase\, song requests taken!
URL:https://discovermelton.com/event/the-pie-shop-piano-night/2026-04-24/
LOCATION:The Pie Shop\, 10 Church Street\, Melton Mowbray\, LE13 0PN\, United Kingdom
CATEGORIES:Event
ATTACH;FMTTYPE=image/jpeg:https://discovermelton.com/wp-content/uploads/2026/04/Brocklebys-Events-e1776346347702.jpg
ORGANIZER;CN="Brockleby's":MAILTO:events@thepieshop.co.uk
END:VEVENT
END:VCALENDAR