BEGIN:VCALENDAR
VERSION:2.0
PRODID:-//Discover Melton - ECPv6.15.20//NONSGML v1.0//EN
CALSCALE:GREGORIAN
METHOD:PUBLISH
X-WR-CALNAME:Discover Melton
X-ORIGINAL-URL:https://discovermelton.com
X-WR-CALDESC:Events for Discover Melton
REFRESH-INTERVAL;VALUE=DURATION:PT1H
X-Robots-Tag:noindex
X-PUBLISHED-TTL:PT1H
BEGIN:VTIMEZONE
TZID:UTC
BEGIN:STANDARD
TZOFFSETFROM:+0000
TZOFFSETTO:+0000
TZNAME:UTC
DTSTART:20250101T000000
END:STANDARD
END:VTIMEZONE
BEGIN:VEVENT
DTSTART;TZID=UTC:20260421T070000
DTEND;TZID=UTC:20260421T130000
DTSTAMP:20260421T023625
CREATED:20260327T103444Z
LAST-MODIFIED:20260327T114631Z
UID:10002676-1776754800-1776776400@discovermelton.com
SUMMARY:Stockyard Melton Mowbray Tuesday Market
DESCRIPTION:Our Tuesday market takes place from 7am to 1pm every week at the Stockyard site\, with free entry for the public. This market extends the Melton Mowbray Town Centre market that trades on the same day\, just a short walk away. Soak up our most bustling market day\, chat with our friendly vendors and find unique items. \nFor vendors\, it costs from £25 per table with an added £10 for any extra tables required. We always encourage new traders to join our friendly and supportive community. \nWhile you are here\, pay a visit to our Tavern Bar & Café\, open from 7am until 3pm\, which is known for its cosy atmosphere\, friendly service and delicious locally-sourced food.
URL:https://discovermelton.com/event/stockyard-melton-mowbray-tuesday-market-3/2026-04-21/
LOCATION:Leicestershire
CATEGORIES:Market
ATTACH;FMTTYPE=image/png:https://discovermelton.com/wp-content/uploads/2025/01/STOCKYARD-Market-3x2-1.png
END:VEVENT
BEGIN:VEVENT
DTSTART;TZID=UTC:20260421T080000
DTEND;TZID=UTC:20260421T150000
DTSTAMP:20260421T023625
CREATED:20260327T104241Z
LAST-MODIFIED:20260327T114345Z
UID:10002416-1776758400-1776783600@discovermelton.com
SUMMARY:Melton Town Tuesday Market
DESCRIPTION:Visit Melton Mowbray’s Town Estates Tuesday Market\, held in the Market Place\, for fresh local produce\, artisan crafts and unique shopping experiences. Explore the heart of Leicestershire’s market town tradition. \nRain or shine\, our wonderful market traders are there every week\, bringing the finest of the region’s produce and goods to Melton Mowbray. This is shopping at its best! \nBooking a stall is simple: click on the link below and complete the enquiry form to download the Melton Mowbray Town Estates market trader application pack. \nOnce this has been completed and returned\, one of the team at Melton Mowbray Town Estates will contact you. \nhttps://meltonmowbraytownestate.com/street-markets/
URL:https://discovermelton.com/event/melton-town-tuesday-market-3/2026-04-21/
LOCATION:Leicestershire
CATEGORIES:Market
ATTACH;FMTTYPE=image/jpeg:https://discovermelton.com/wp-content/uploads/2025/12/Melton-Market.jpg
END:VEVENT
END:VCALENDAR